BEGIN:VCALENDAR
VERSION:2.0
PRODID:-//Keystone Wildflowers - ECPv6.15.20//NONSGML v1.0//EN
CALSCALE:GREGORIAN
METHOD:PUBLISH
X-WR-CALNAME:Keystone Wildflowers
X-ORIGINAL-URL:https://www.keystonewildflowers.com
X-WR-CALDESC:Events for Keystone Wildflowers
REFRESH-INTERVAL;VALUE=DURATION:PT1H
X-Robots-Tag:noindex
X-PUBLISHED-TTL:PT1H
BEGIN:VTIMEZONE
TZID:America/New_York
BEGIN:DAYLIGHT
TZOFFSETFROM:-0500
TZOFFSETTO:-0400
TZNAME:EDT
DTSTART:20250309T070000
END:DAYLIGHT
BEGIN:STANDARD
TZOFFSETFROM:-0400
TZOFFSETTO:-0500
TZNAME:EST
DTSTART:20251102T060000
END:STANDARD
BEGIN:DAYLIGHT
TZOFFSETFROM:-0500
TZOFFSETTO:-0400
TZNAME:EDT
DTSTART:20260308T070000
END:DAYLIGHT
BEGIN:STANDARD
TZOFFSETFROM:-0400
TZOFFSETTO:-0500
TZNAME:EST
DTSTART:20261101T060000
END:STANDARD
BEGIN:DAYLIGHT
TZOFFSETFROM:-0500
TZOFFSETTO:-0400
TZNAME:EDT
DTSTART:20270314T070000
END:DAYLIGHT
BEGIN:STANDARD
TZOFFSETFROM:-0400
TZOFFSETTO:-0500
TZNAME:EST
DTSTART:20271107T060000
END:STANDARD
END:VTIMEZONE
BEGIN:VEVENT
DTSTART;TZID=America/New_York:20260418T080000
DTEND;TZID=America/New_York:20260418T120000
DTSTAMP:20260423T110054
CREATED:20260303T190330Z
LAST-MODIFIED:20260413T001331Z
UID:3500-1776499200-1776513600@www.keystonewildflowers.com
SUMMARY:Keystone Wildflower Plant Sale
DESCRIPTION:We are hosting a spring native plant sale at our Robesonia\, Pa. greenhouse. We will have many native perennial plants for sale. Pre-orders are encouraged. Appointments are required for this event to ensure we are available to answer all your questions. \n\n\n\nWe encourage you to come prepared with details about where you’ll be planting. This could include soil type (sandy\, silt\, clay)\, amount of sunlight (morning sun\, afternoon sun\, full shade)\, and amount of space. \n\n\n\nNote: We are limiting two parties for every 30-minute appointment slot. You may stay as long as you need to select your plants! The event will be semi-outdoors with our greenhouse doors open.
URL:https://www.keystonewildflowers.com/event/keystone-wildflower-plant-sale-2/
LOCATION:Keystone Wildflowers\, 675 Hill Road\, Robesonia\, PA\, 19551\, United States
ORGANIZER;CN="Keystone Wildflowers":MAILTO:bill@keystonewildflowers.com
END:VEVENT
BEGIN:VEVENT
DTSTART;TZID=America/New_York:20260411T080000
DTEND;TZID=America/New_York:20260411T120000
DTSTAMP:20260423T110054
CREATED:20250316T141204Z
LAST-MODIFIED:20260303T182950Z
UID:3423-1775894400-1775908800@www.keystonewildflowers.com
SUMMARY:Keystone Wildflower Plant Sale
DESCRIPTION:We are hosting a spring native plant sale at our Robesonia\, Pa. greenhouse. We will have many native perennial plants for sale. Pre-orders are encouraged. Appointments are required for this event to ensure we are available to answer all your questions. \n\n\n\nWe encourage you to come prepared with details about where you’ll be planting. This could include soil type (sandy\, silt\, clay)\, amount of sunlight (morning sun\, afternoon sun\, full shade)\, and amount of space.  \n\n\n\nNote: We are limiting two parties for every 30-minute appointment slot. You may stay as long as you need to select your plants! The event will be semi-outdoors with our greenhouse doors open.
URL:https://www.keystonewildflowers.com/event/keystone-wildflower-plant-sale/
LOCATION:Keystone Wildflowers\, 675 Hill Road\, Robesonia\, PA\, 19551\, United States
CATEGORIES:Open House,Plant Sale
ORGANIZER;CN="Keystone Wildflowers":MAILTO:bill@keystonewildflowers.com
END:VEVENT
END:VCALENDAR