BEGIN:VCALENDAR
VERSION:2.0
PRODID:-//Keystone Wildflowers - ECPv6.15.20//NONSGML v1.0//EN
CALSCALE:GREGORIAN
METHOD:PUBLISH
X-WR-CALNAME:Keystone Wildflowers
X-ORIGINAL-URL:https://www.keystonewildflowers.com
X-WR-CALDESC:Events for Keystone Wildflowers
REFRESH-INTERVAL;VALUE=DURATION:PT1H
X-Robots-Tag:noindex
X-PUBLISHED-TTL:PT1H
BEGIN:VTIMEZONE
TZID:America/New_York
BEGIN:DAYLIGHT
TZOFFSETFROM:-0500
TZOFFSETTO:-0400
TZNAME:EDT
DTSTART:20250309T070000
END:DAYLIGHT
BEGIN:STANDARD
TZOFFSETFROM:-0400
TZOFFSETTO:-0500
TZNAME:EST
DTSTART:20251102T060000
END:STANDARD
BEGIN:DAYLIGHT
TZOFFSETFROM:-0500
TZOFFSETTO:-0400
TZNAME:EDT
DTSTART:20260308T070000
END:DAYLIGHT
BEGIN:STANDARD
TZOFFSETFROM:-0400
TZOFFSETTO:-0500
TZNAME:EST
DTSTART:20261101T060000
END:STANDARD
BEGIN:DAYLIGHT
TZOFFSETFROM:-0500
TZOFFSETTO:-0400
TZNAME:EDT
DTSTART:20270314T070000
END:DAYLIGHT
BEGIN:STANDARD
TZOFFSETFROM:-0400
TZOFFSETTO:-0500
TZNAME:EST
DTSTART:20271107T060000
END:STANDARD
END:VTIMEZONE
BEGIN:VEVENT
DTSTART;TZID=America/New_York:20260425T080000
DTEND;TZID=America/New_York:20260425T130000
DTSTAMP:20260423T105951
CREATED:20260321T161025Z
LAST-MODIFIED:20260321T161026Z
UID:3483-1777104000-1777122000@www.keystonewildflowers.com
SUMMARY:MT EARTH FEST
DESCRIPTION:MT EARTH FEST-Join Keystone Wildflowers and the Manheim Township Community to celebrate EARTH DAY at Overlook Park and Activities Center! This a free rain or shine event\, which will include a native plant sale\, an earth-centered maker’s market\, food trucks\, environmental information tables\, kids’ crafts and activities\, animal shows\, raffle prizes\, a recycling drive\, and more!  Keystone Wildflowers will have tables of native plants for sale. Pre-orders taken by e-mailing info@keystonewildflowers.com by April 15\, 2026. WE REQUIRE PAYMENT IN FULL FOR ALL PRE-ORDERS. Please come early we sell out quickly!
URL:https://www.keystonewildflowers.com/event/mt-earth-fest/
LOCATION:Overlook Park\, 595 Granite Run Drive\, Lancaster\, PA\, 17601\, United States
END:VEVENT
END:VCALENDAR